BEGIN:VCALENDAR
VERSION:2.0
PRODID:spatie/icalendar-generator
DESCRIPTION:Veranstaltungen von Schuetzenverein-reinstetten.de
X-WR-CALDESC:Veranstaltungen von Schuetzenverein-reinstetten.de
REFRESH-INTERVAL;VALUE=DURATION:PT1440M
X-PUBLISHED-TTL:PT1440M
BEGIN:VTIMEZONE
TZID:Etc/GMT+0
BEGIN:STANDARD
DTSTART:20250624T190000Z
TZOFFSETFROM:+0000
TZOFFSETTO:+0000
END:STANDARD
END:VTIMEZONE
BEGIN:VTIMEZONE
TZID:UTC
BEGIN:STANDARD
DTSTART:20250723T212459Z
TZOFFSETFROM:+0000
TZOFFSETTO:+0000
END:STANDARD
END:VTIMEZONE
BEGIN:VEVENT
UID:17-15
DTSTAMP:20260419T212459Z
SUMMARY:Generalversammlung
LOCATION:
ORGANIZER;CN=admin:MAILTO:eduardgeyer@gmail.com
DTSTART;TZID=Etc/GMT+0:20260321T190000
DTEND;TZID=Etc/GMT+0:20260321T200000
X-ALT-DESC;FMTTYPE=TEXT/HTML:
CATEGORIES:Alle
URL;VALUE=URI:https://schuetzenverein-reinstetten.de/mc-events/generalversa
 mmlung-2/
METHOD:PUBLISH
END:VEVENT
END:VCALENDAR