BEGIN:VCALENDAR
VERSION:2.0
PRODID:spatie/icalendar-generator
DESCRIPTION:Veranstaltungen von Schuetzenverein-reinstetten.de
X-WR-CALDESC:Veranstaltungen von Schuetzenverein-reinstetten.de
REFRESH-INTERVAL;VALUE=DURATION:PT1440M
X-PUBLISHED-TTL:PT1440M
BEGIN:VTIMEZONE
TZID:Etc/GMT+0
BEGIN:STANDARD
DTSTART:20250702T100000Z
TZOFFSETFROM:+0000
TZOFFSETTO:+0000
END:STANDARD
END:VTIMEZONE
BEGIN:VTIMEZONE
TZID:UTC
BEGIN:STANDARD
DTSTART:20250723T224318Z
TZOFFSETFROM:+0000
TZOFFSETTO:+0000
END:STANDARD
END:VTIMEZONE
BEGIN:VEVENT
UID:18-16
DTSTAMP:20260419T224318Z
SUMMARY:Ostereierschiessen
LOCATION:
ORGANIZER;CN=admin:MAILTO:eduardgeyer@gmail.com
DTSTART;TZID=Etc/GMT+0:20260329T100000
DTEND;TZID=Etc/GMT+0:20260329T110000
X-ALT-DESC;FMTTYPE=TEXT/HTML:
CATEGORIES:Alle
URL;VALUE=URI:https://schuetzenverein-reinstetten.de/mc-events/ostereiersch
 iessen-2/
METHOD:PUBLISH
END:VEVENT
END:VCALENDAR