BEGIN:VCALENDAR
VERSION:2.0
PRODID:spatie/icalendar-generator
DESCRIPTION:Veranstaltungen von Schuetzenverein-reinstetten.de
X-WR-CALDESC:Veranstaltungen von Schuetzenverein-reinstetten.de
REFRESH-INTERVAL;VALUE=DURATION:PT1440M
X-PUBLISHED-TTL:PT1440M
BEGIN:VTIMEZONE
TZID:Etc/GMT+0
BEGIN:STANDARD
DTSTART:20251104T000000Z
TZOFFSETFROM:+0000
TZOFFSETTO:+0000
END:STANDARD
END:VTIMEZONE
BEGIN:VTIMEZONE
TZID:UTC
BEGIN:STANDARD
DTSTART:20250724T015743Z
TZOFFSETFROM:+0000
TZOFFSETTO:+0000
END:STANDARD
END:VTIMEZONE
BEGIN:VEVENT
UID:23-21
DTSTAMP:20260420T015743Z
SUMMARY:Sommerpause
LOCATION:
ORGANIZER;CN=admin:MAILTO:eduardgeyer@gmail.com
DTSTART;TZID=Etc/GMT+0;VALUE=DATE:20260801
DTEND;TZID=Etc/GMT+0;VALUE=DATE:20260817
X-ALT-DESC;FMTTYPE=TEXT/HTML:Kein Schiessbetrieb Kein Wirtschafftsbetrieb
CATEGORIES:Alle
URL;VALUE=URI:https://schuetzenverein-reinstetten.de/mc-events/sommerpause/
METHOD:PUBLISH
END:VEVENT
END:VCALENDAR